BEGIN:VCALENDAR
VERSION:2.0
PRODID:-//wp-events-plugin.com//7.2.3.1//EN
BEGIN:VEVENT
UID:976@sonnytroupe.com
DTSTART:20240413T190000Z
DTEND:20240413T190000Z
DTSTAMP:20240208T023740Z
URL:https://sonnytroupe.com/events/gregory-privat-feat-sonny-troupe-2
SUMMARY:Grégory Privat feat Sonny Troupé
DESCRIPTION:
CATEGORIES:Sideman
LOCATION:Salle polyvalente de Gruson\, 3 rue de Verdun\,  Gruson\, 59152\, 
 France
X-APPLE-STRUCTURED-LOCATION;VALUE=URI;X-ADDRESS=3 rue de Verdun\,  Gruson\,
  59152\, France;X-APPLE-RADIUS=100;X-TITLE=Salle polyvalente de Gruson:geo
 :0,0
END:VEVENT
END:VCALENDAR