BEGIN:VCALENDAR
VERSION:2.0
PRODID:-//wp-events-plugin.com//7.2.3.1//EN
BEGIN:VEVENT
UID:88@sonnytroupe.com
DTSTART:20140607T184500Z
DTEND:20140607T184500Z
DTSTAMP:20140615T093111Z
URL:https://sonnytroupe.com/events/gny
SUMMARY:G'NY
DESCRIPTION:Dans le cadre du Festival de Marie Galante - Terre de Blues\n\n
 &nbsp\;\n\nG'NY: lead vocal\n\nStéphane Castry : basse\, direction musica
 le\n\nDidier Davidas : claviers\n\nOlivier Juste : percussions\n\nSonny Tr
 oupé : batterie\n\n+ d'infos
CATEGORIES:Sideman
LOCATION:Festival Marie Galante - Terre de Blues\, Habitation Murat\, Grand
  Bourg\, Marie Galante\, 97112\, Guadeloupe
GEO:15.9232223;-61.25687770000002
X-APPLE-STRUCTURED-LOCATION;VALUE=URI;X-ADDRESS=Habitation Murat\, Grand Bo
 urg\, Marie Galante\, 97112\, Guadeloupe;X-APPLE-RADIUS=100;X-TITLE=Festiv
 al Marie Galante - Terre de Blues:geo:15.9232223,-61.25687770000002
END:VEVENT
END:VCALENDAR