BEGIN:VCALENDAR
VERSION:2.0
PRODID:-//wp-events-plugin.com//7.2.3.1//EN
BEGIN:VEVENT
UID:187@sonnytroupe.com
DTSTART:20150613T203000Z
DTEND:20150613T203000Z
DTSTAMP:20150523T143252Z
URL:https://sonnytroupe.com/events/franck-nicolas-trio-soleil
SUMMARY:Franck Nicolas "Trio Soleil"
DESCRIPTION:Présentation d’album\n\nFranck Nicolas : trompette\, bugle\,
  conques\, leader\n\nNelson Veras : guitare\n\nSonny Troupé : batterie\, 
 ka
CATEGORIES:Sideman
LOCATION:Sunset Sunside\, 60 Rue des Lombards \, Paris\, 75001 \, France
GEO:48.8597984;2.3477737000000616
X-APPLE-STRUCTURED-LOCATION;VALUE=URI;X-ADDRESS=60 Rue des Lombards \, Pari
 s\, 75001 \, France;X-APPLE-RADIUS=100;X-TITLE=Sunset Sunside:geo:48.85979
 84,2.3477737000000616
END:VEVENT
END:VCALENDAR