BEGIN:VCALENDAR
VERSION:2.0
PRODID:-//wp-events-plugin.com//7.2.3.1//EN
BEGIN:VEVENT
UID:556@sonnytroupe.com
DTSTART:20190709T230000Z
DTEND:20190709T230000Z
DTSTAMP:20190512T204533Z
URL:https://sonnytroupe.com/events/formation-speciale-fgk
SUMMARY:Formation spéciale FGK
DESCRIPTION:Raphaël Philibert\n\nJonathan Jurion\n\nMike Armoogum\n\nSonny
  Troupé
CATEGORIES:Sonny
LOCATION:Festival Gwo Ka Sentann\, Plage des Galbas\, Sainte Anne\, 97180\,
  Guadeloupe
X-APPLE-STRUCTURED-LOCATION;VALUE=URI;X-ADDRESS=Plage des Galbas\, Sainte A
 nne\, 97180\, Guadeloupe;X-APPLE-RADIUS=100;X-TITLE=Festival Gwo Ka Sentan
 n:geo:0,0
END:VEVENT
END:VCALENDAR