BEGIN:VCALENDAR
VERSION:2.0
PRODID:-//wp-events-plugin.com//7.2.3.1//EN
BEGIN:VEVENT
UID:31@sonnytroupe.com
DTSTART:20130504T183000Z
DTEND:20130504T183000Z
DTSTAMP:20140615T092936Z
URL:https://sonnytroupe.com/events/florence-naprix-2
SUMMARY:Florence Naprix
DESCRIPTION:Stéphane Castry: basse\n\nThierry Vaton: piano\n\nAmen Viana: 
 guitare\n\nSonny Troupé: batterie
CATEGORIES:Sideman
LOCATION:le Baiser Salé\, 58\, rue des Lombards\, Paris\, 75001\, France
GEO:48.8597733;2.347917300000063
X-APPLE-STRUCTURED-LOCATION;VALUE=URI;X-ADDRESS=58\, rue des Lombards\, Par
 is\, 75001\, France;X-APPLE-RADIUS=100;X-TITLE=le Baiser Salé:geo:48.8597
 733,2.347917300000063
END:VEVENT
END:VCALENDAR