BEGIN:VCALENDAR
VERSION:2.0
PRODID:-//wp-events-plugin.com//7.2.3.1//EN
BEGIN:VEVENT
UID:126@sonnytroupe.com
DTSTART:20141031T180000Z
DTEND:20141031T180000Z
DTSTAMP:20141006T201552Z
URL:https://sonnytroupe.com/events/experience-ka
SUMMARY:Expérience Ka
DESCRIPTION:\n\nEXPÉRIENCE KA\n\nFormule Trio.\n\nCréation musicale dans 
 le cadre du festival Africolor.\n\nPlus d'infos\n\n
CATEGORIES:Sonny
LOCATION:Villepinte\, 35 avenue Paul-Vaillant Couturier (Service jeunesse)\
 , Villepinte\, 93420\, France
GEO:48.960226;2.542867000000001
X-APPLE-STRUCTURED-LOCATION;VALUE=URI;X-ADDRESS=35 avenue Paul-Vaillant Cou
 turier (Service jeunesse)\, Villepinte\, 93420\, France;X-APPLE-RADIUS=100
 ;X-TITLE=Villepinte:geo:48.960226,2.542867000000001
END:VEVENT
END:VCALENDAR