BEGIN:VCALENDAR
VERSION:2.0
PRODID:-//wp-events-plugin.com//7.2.3.1//EN
BEGIN:VEVENT
UID:124@sonnytroupe.com
DTSTART:20141104T180000Z
DTEND:20141104T180000Z
DTSTAMP:20141006T202740Z
URL:https://sonnytroupe.com/events/experience-ka-casey-sonny-troupe-duo
SUMMARY:Expérience Ka 
DESCRIPTION:EXPÉRIENCE KA\n\nFormule trio.\n\nCréation musicale dans le c
 adre du festival Africolor.\n\nPlus d'infos\n\n&nbsp\;\n\n&nbsp\;
CATEGORIES:Sonny
LOCATION:Centre social André Malraux  \, 1 Avenue André Malraux\, Villepi
 nte\, 93420 \, France
GEO:48.956779;2.54862090000006
X-APPLE-STRUCTURED-LOCATION;VALUE=URI;X-ADDRESS=1 Avenue André Malraux\, V
 illepinte\, 93420 \, France;X-APPLE-RADIUS=100;X-TITLE=Centre social Andr
 é Malraux  :geo:48.956779,2.54862090000006
END:VEVENT
END:VCALENDAR