BEGIN:VCALENDAR
VERSION:2.0
PRODID:-//wp-events-plugin.com//7.2.3.1//EN
BEGIN:VEVENT
UID:125@sonnytroupe.com
DTSTART:20141031T140000Z
DTEND:20141031T140000Z
DTSTAMP:20141006T202320Z
URL:https://sonnytroupe.com/events/experience-ka-casey-sonny-troupe-duo-2
SUMMARY:Expérience Ka (Casey - Sonny Troupé Duo)
DESCRIPTION:\n\nEXPÉRIENCE KA\n\nConcert à domicile en duo. Voix - Percus
 sions.\n\nCréation musicale dans le cadre du festival Africolor.\n\nPlus 
 d'infos\n\n
CATEGORIES:Sonny
LOCATION:Villepinte\, Villepinte\, Villepinte\, 93420\, France
GEO:48.963161;2.512393999999972
X-APPLE-STRUCTURED-LOCATION;VALUE=URI;X-ADDRESS=Villepinte\, Villepinte\, 9
 3420\, France;X-APPLE-RADIUS=100;X-TITLE=Villepinte:geo:48.963161,2.512393
 999999972
END:VEVENT
END:VCALENDAR