BEGIN:VCALENDAR
VERSION:2.0
PRODID:-//wp-events-plugin.com//7.2.3.1//EN
BEGIN:VEVENT
UID:179@sonnytroupe.com
DTSTART:20150526T193000Z
DTEND:20150526T193000Z
DTSTAMP:20150523T131019Z
URL:https://sonnytroupe.com/events/expeka-trio
SUMMARY:ExpéKa (Trio)
DESCRIPTION:Casey : rap\n\nCélia Wa : flûte\, voix\n\nSonny Troupé : ka\
 n\nPlus d'infos
CATEGORIES:Sonny
LOCATION:Festival La Voix est Libre\, Maison de la Poésie\, 157\, rue Sain
 t Martin\, Paris\, 75003\, France
GEO:48.86213129999999;2.3519119000000046
X-APPLE-STRUCTURED-LOCATION;VALUE=URI;X-ADDRESS=Maison de la Poésie\, 157\
 , rue Saint Martin\, Paris\, 75003\, France;X-APPLE-RADIUS=100;X-TITLE=Fes
 tival La Voix est Libre:geo:48.86213129999999,2.3519119000000046
END:VEVENT
END:VCALENDAR