BEGIN:VCALENDAR
VERSION:2.0
PRODID:-//wp-events-plugin.com//7.2.3.1//EN
BEGIN:VEVENT
UID:609@sonnytroupe.com
DTSTART;VALUE=DATE:20200107
DTEND;VALUE=DATE:20200110
DTSTAMP:20191220T132821Z
URL:https://sonnytroupe.com/events/en-studio-avec-jacques-schwarz-bart
SUMMARY:En studio avec Jacques Schwarz Bart
DESCRIPTION:Soné Ka La II
CATEGORIES:Masterclass
LOCATION:Midi Live Studio\, 2 Allée des Acacias\, Villetaneuse\, 93430\, F
 rance
X-APPLE-STRUCTURED-LOCATION;VALUE=URI;X-ADDRESS=2 Allée des Acacias\, Vill
 etaneuse\, 93430\, France;X-APPLE-RADIUS=100;X-TITLE=Midi Live Studio:geo:
 0,0
END:VEVENT
END:VCALENDAR