BEGIN:VCALENDAR
VERSION:2.0
PRODID:-//wp-events-plugin.com//7.2.3.1//EN
BEGIN:VEVENT
UID:1011@sonnytroupe.com
DTSTART:20240706T190000Z
DTEND:20240706T190000Z
DTSTAMP:20240703T120321Z
URL:https://sonnytroupe.com/events/bokantaj-mizik-edition-40
SUMMARY:Bokantaj & Mizik - Edition 40
DESCRIPTION:Edition spéciale 40\n\nLe rendez-vous mensuel du duo Christian
  Laviso / Sonny Troupé autour du gwoka traditionnel et modèn\, avec à c
 haque édition 2 invités sera différents.Pour cette édition spéciale i
 l s'agira d'une "Jam Reunion Guest" avec plusieurs invitées!\n\n&nbsp\;
ATTACH;FMTTYPE=image/jpeg:https://sonnytroupe.com/wp-content/uploads/2024/
 07/6E2FDAB2-961A-41F5-BE03-E43955DB6B04-copie-scaled.jpeg
CATEGORIES:Sonny
LOCATION:New Ti Paris\, 25 Montée de Périnet\, Gosier\, 97190\, France
X-APPLE-STRUCTURED-LOCATION;VALUE=URI;X-ADDRESS=25 Montée de Périnet\, Go
 sier\, 97190\, France;X-APPLE-RADIUS=100;X-TITLE=New Ti Paris:geo:0,0
END:VEVENT
END:VCALENDAR