BEGIN:VCALENDAR
VERSION:2.0
PRODID:-//wp-events-plugin.com//7.2.3.1//EN
BEGIN:VEVENT
UID:911@sonnytroupe.com
DTSTART:20230715T190000Z
DTEND:20230715T190000Z
DTSTAMP:20230608T184719Z
URL:https://sonnytroupe.com/events/bokantaj-mizik-8
SUMMARY:Bokantaj & Mizik
DESCRIPTION:Rendez vous mensuel du New Ti Paris\n\nLe duo Christian Laviso 
 - Sonny Troupé reçoit chaque mois 2 invités.\n\nL'occasion chaque mois
  de rencontrer\, partager et expérimenter autour du gwoka traditionnel et
  moderne\n\n&nbsp\;
ATTACH;FMTTYPE=image/jpeg:https://sonnytroupe.com/wp-content/uploads/2023/
 06/6E2FDAB2-961A-41F5-BE03-E43955DB6B04-copie-scaled.jpeg
CATEGORIES:Sonny
LOCATION:New Ti Paris\, 25 Montée de Périnet\, Gosier\, 97190\, Dom\, Gua
 deloupe
GEO:16.265;-61.55099999999999
X-APPLE-STRUCTURED-LOCATION;VALUE=URI;X-ADDRESS=25 Montée de Périnet\, Go
 sier\, 97190\, Dom\, Guadeloupe;X-APPLE-RADIUS=100;X-TITLE=New Ti Paris:ge
 o:16.265,-61.55099999999999
END:VEVENT
END:VCALENDAR