BEGIN:VCALENDAR
VERSION:2.0
PRODID:-//wp-events-plugin.com//7.2.3.1//EN
BEGIN:VEVENT
UID:960@sonnytroupe.com
DTSTART:20231109T190000Z
DTEND:20231119T190000Z
DTSTAMP:20231018T144947Z
URL:https://sonnytroupe.com/events/black-lives-from-generation-to-generati
 on-europe-tour
SUMMARY:Black Lives From Generation to Generation - Europe Tour
DESCRIPTION:Tournée européenne du 9 au 19 novembre\n\nPlus d'infos
CATEGORIES:Sideman
END:VEVENT
END:VCALENDAR