BEGIN:VCALENDAR
VERSION:2.0
PRODID:-//wp-events-plugin.com//7.2.3.1//EN
BEGIN:VEVENT
UID:1072@sonnytroupe.com
DTSTART:20250810T160000Z
DTEND:20250810T160000Z
DTSTAMP:20250523T213218Z
URL:https://sonnytroupe.com/events/black-lives-8
SUMMARY:Black Lives
DESCRIPTION:
ATTACH;FMTTYPE=image/jpeg:https://sonnytroupe.com/wp-content/uploads/2024/
 10/71pQSKX0TUL._SL1181_.jpg
CATEGORIES:Sideman
LOCATION:FESTIVAL AU GRES DU JAZZ - FESTIVAL DE LA PETITE PIERRE\, Place Du
  Chateau\, La Petite Pierre\, 67290\, France
X-APPLE-STRUCTURED-LOCATION;VALUE=URI;X-ADDRESS=Place Du Chateau\, La Petit
 e Pierre\, 67290\, France;X-APPLE-RADIUS=100;X-TITLE=FESTIVAL AU GRES DU J
 AZZ - FESTIVAL DE LA PETITE PIERRE:geo:0,0
END:VEVENT
END:VCALENDAR