BEGIN:VCALENDAR
VERSION:2.0
PRODID:-//wp-events-plugin.com//7.2.3.1//EN
BEGIN:VEVENT
UID:1005@sonnytroupe.com
DTSTART:20240718T190000Z
DTEND:20240718T190000Z
DTSTAMP:20240610T170956Z
URL:https://sonnytroupe.com/events/black-lives-2
SUMMARY:Black Lives
DESCRIPTION:People of Earth Tour\n\nhttps://www.youtube.com/watch?v=L4v8eh9
 gko0
CATEGORIES:Sideman
LOCATION:Festival Jazz à Sète\, 5 Rue des 3 Journées\, \, Sète\, 34200\
 , France
X-APPLE-STRUCTURED-LOCATION;VALUE=URI;X-ADDRESS=5 Rue des 3 Journées\, \, 
 Sète\, 34200\, France;X-APPLE-RADIUS=100;X-TITLE=Festival Jazz à Sète:g
 eo:0,0
END:VEVENT
END:VCALENDAR