BEGIN:VCALENDAR
VERSION:2.0
PRODID:-//wp-events-plugin.com//7.2.3.1//EN
BEGIN:VEVENT
UID:652@sonnytroupe.com
DTSTART;VALUE=DATE:20200817
DTEND;VALUE=DATE:20200826
DTSTAMP:20200628T182721Z
URL:https://sonnytroupe.com/events/bigin-jazz-collective
SUMMARY:Big'in Jazz Collective
DESCRIPTION:Résidence de création avec :\n\nRalph Lavital : guitare\, dir
 ection artistique\n\nJowee Omicil : sax\n\nLudovic Louis : trompette\n\nYa
 nn Négrit : guitare\n\nStephane Castry : basse\n\nMaher Beauroy : piano\n
 \nTilo Bertholo : batterie\n\nSonny Troupé : batterie\n\n&nbsp\;\n\nhttps
 ://www.facebook.com/FestivalBiguineJazz/videos/297404238307427/
CATEGORIES:Masterclass
LOCATION:Biguine Jazz Festival\, Martinique\, Martinique\, France
X-APPLE-STRUCTURED-LOCATION;VALUE=URI;X-ADDRESS=Martinique\, Martinique\, F
 rance;X-APPLE-RADIUS=100;X-TITLE=Biguine Jazz Festival:geo:0,0
END:VEVENT
END:VCALENDAR