BEGIN:VCALENDAR
VERSION:2.0
PRODID:-//wp-events-plugin.com//7.2.3.1//EN
BEGIN:VEVENT
UID:827@sonnytroupe.com
DTSTART:20220620T190000Z
DTEND:20220620T190000Z
DTSTAMP:20220505T173641Z
URL:https://sonnytroupe.com/events/big-in-jazz-collective-4
SUMMARY:Big In Jazz Collective
DESCRIPTION:
ATTACH;FMTTYPE=image/jpeg:https://sonnytroupe.com/wp-content/uploads/2022/
 05/carrees_pas_annoncees-min.jpg
CATEGORIES:Sideman
LOCATION:La Défense Jazz Festival\, Nanterre\, Nanterre\, France
X-APPLE-STRUCTURED-LOCATION;VALUE=URI;X-ADDRESS=Nanterre\, Nanterre\, Franc
 e;X-APPLE-RADIUS=100;X-TITLE=La Défense Jazz Festival:geo:0,0
END:VEVENT
END:VCALENDAR