BEGIN:VCALENDAR
VERSION:2.0
PRODID:-//wp-events-plugin.com//7.2.3.1//EN
BEGIN:VEVENT
UID:219@sonnytroupe.com
DTSTART:20151117T190000Z
DTEND:20151117T190000Z
DTSTAMP:20150809T091909Z
URL:https://sonnytroupe.com/events/banlieue-tropicale-trio-soleil
SUMMARY:[Banlieue Tropicale] Trio Soleil
DESCRIPTION:Franck Nicolas\, Nelson Veras\, Sonny Troupé
CATEGORIES:Sideman
LOCATION:le Triton\, 11 bis\, rue du Coq Français\, Les Lilas\, France
GEO:48.8787069;2.4148513000000094
X-APPLE-STRUCTURED-LOCATION;VALUE=URI;X-ADDRESS=11 bis\, rue du Coq França
 is\, Les Lilas\, France;X-APPLE-RADIUS=100;X-TITLE=le Triton:geo:48.878706
 9,2.4148513000000094
END:VEVENT
END:VCALENDAR